BEGIN:VCALENDAR
VERSION:2.0
PRODID:-//Fareham Innovation Centre - ECPv6.15.20//NONSGML v1.0//EN
CALSCALE:GREGORIAN
METHOD:PUBLISH
X-WR-CALNAME:Fareham Innovation Centre
X-ORIGINAL-URL:https://www.fareham-ic.co.uk
X-WR-CALDESC:Events for Fareham Innovation Centre
REFRESH-INTERVAL;VALUE=DURATION:PT1H
X-Robots-Tag:noindex
X-PUBLISHED-TTL:PT1H
BEGIN:VTIMEZONE
TZID:UTC
BEGIN:STANDARD
TZOFFSETFROM:+0000
TZOFFSETTO:+0000
TZNAME:UTC
DTSTART:20250101T000000
END:STANDARD
END:VTIMEZONE
BEGIN:VEVENT
DTSTART;TZID=UTC:20260422T090000
DTEND;TZID=UTC:20260422T130000
DTSTAMP:20260422T114909
CREATED:20260209T152004Z
LAST-MODIFIED:20260213T160052Z
UID:4951-1776848400-1776862800@www.fareham-ic.co.uk
SUMMARY:Talk to O'Malley Live Podcast
DESCRIPTION:The Talk to O’Malley Podcast will be hosting a LIVE podcast event on Wednesday 22nd April here at Fareham Innovation Centre. \nJoin Tom O’Malley and Daniel Sagar for a morning of networking and audience participation. \nWhat to expect: \n\nA panel of experts in film and podcasts\, social media videos and an online visibility guru all with Tom asking the questions and enlightening the audience.\n\nAndy Wood 🎥 will be talking about his take on podcasts and how it can help your business deliver its message.\nJames Gayle will be bringing the knowledge on social media and how to get an edge.\n\nAlan Braithwaite will be explaining that its all good to have content – but where does it go???\nRefreshments provided\n\nThe event will be filmed by the gracious Alec Chapman and Tom O’Malley and team will be on hand to help you make some videos and mic you up if there’s time. \nTickets cost £20. All of the proceeds will be going to The Genie’s Wish\, a charity which grants wishes to seriously ill people and young carers. If you would like to find out more about the charity\, follow this link: The Genie’s Wish – The Genie’s Wish Charity \nPurchase your Tickets here: \nThe Talk To O’Malley Podcast is going LIVE!
URL:https://www.fareham-ic.co.uk/event/tom-omalley-live-podcast/
LOCATION:Fareham Innovation Centre\, Merlin House\, Lee-on-the-Solent\, Fareham\, PO13 9FU\, United Kingdom
END:VEVENT
END:VCALENDAR